BEGIN:VCALENDAR
VERSION:2.0
PRODID:-//hacksw/handcal//NONSGML v1.0//EN
BEGIN:VEVENT
SUMMARY:Nationale 3 (poule 6)
UID:345363da-8c10-4a49-b202-2fcc78414766
DTSTART:20260411T140000Z
DTEND:20260411T220000Z
LOCATION:Localisation   
CATEGORIES:Sportif
STATUS:
URL;VALUE=URI:https://www.cmatt.fr/evenements/2026/04/11/nationale-3-poule-6-2442182
END:VEVENT
END:VCALENDAR
