BEGIN:VCALENDAR
VERSION:2.0
PRODID:-//hacksw/handcal//NONSGML v1.0//EN
BEGIN:VEVENT
SUMMARY:Nationale 3 (poule 5)
UID:216d7330-3d5f-41b8-8bf3-15b4c037a42c
DTSTART:20260411T140000Z
DTEND:20260411T220000Z
LOCATION:Localisation   
CATEGORIES:Sportif
STATUS:
URL;VALUE=URI:https://www.cmatt.fr/evenements/2026/04/11/nationale-3-poule-5-2442178
END:VEVENT
END:VCALENDAR
