BEGIN:VCALENDAR
VERSION:2.0
PRODID:-//hacksw/handcal//NONSGML v1.0//EN
BEGIN:VEVENT
SUMMARY:Nationale 1A
UID:d138f2ba-d4e5-44de-974d-3a1114424950
DTSTART:20260411T140000Z
DTEND:20260411T220000Z
LOCATION:Localisation   
CATEGORIES:Sportif
STATUS:
URL;VALUE=URI:https://www.cmatt.fr/evenements/2026/04/11/nationale-1a-2442175
END:VEVENT
END:VCALENDAR
